BEGIN:VCALENDAR
VERSION:2.0
PRODID:-//Dazzle Workshops - ECPv6.15.11//NONSGML v1.0//EN
CALSCALE:GREGORIAN
METHOD:PUBLISH
X-WR-CALNAME:Dazzle Workshops
X-ORIGINAL-URL:https://dazzleworkshops.co.uk
X-WR-CALDESC:Events for Dazzle Workshops
REFRESH-INTERVAL;VALUE=DURATION:PT1H
X-Robots-Tag:noindex
X-PUBLISHED-TTL:PT1H
BEGIN:VTIMEZONE
TZID:Europe/London
BEGIN:DAYLIGHT
TZOFFSETFROM:+0000
TZOFFSETTO:+0100
TZNAME:BST
DTSTART:20240331T010000
END:DAYLIGHT
BEGIN:STANDARD
TZOFFSETFROM:+0100
TZOFFSETTO:+0000
TZNAME:GMT
DTSTART:20241027T010000
END:STANDARD
BEGIN:DAYLIGHT
TZOFFSETFROM:+0000
TZOFFSETTO:+0100
TZNAME:BST
DTSTART:20250330T010000
END:DAYLIGHT
BEGIN:STANDARD
TZOFFSETFROM:+0100
TZOFFSETTO:+0000
TZNAME:GMT
DTSTART:20251026T010000
END:STANDARD
BEGIN:DAYLIGHT
TZOFFSETFROM:+0000
TZOFFSETTO:+0100
TZNAME:BST
DTSTART:20260329T010000
END:DAYLIGHT
BEGIN:STANDARD
TZOFFSETFROM:+0100
TZOFFSETTO:+0000
TZNAME:GMT
DTSTART:20261025T010000
END:STANDARD
END:VTIMEZONE
BEGIN:VEVENT
DTSTART;TZID=Europe/London:20250630T193000
DTEND;TZID=Europe/London:20250630T203000
DTSTAMP:20260422T033510
CREATED:20250514T125000Z
LAST-MODIFIED:20250616T120325Z
UID:33576-1751311800-1751315400@dazzleworkshops.co.uk
SUMMARY:Burlesque Dance Course
DESCRIPTION:So excited that Ros is running this empowering and fun course in June! \n“When I became a Dazzle Showgirl in 2024\, I unlocked a part of my soul that I previously didn’t know existed. That secretive\, saucy\, confident woman who could dance as if no one was watching. \nAt the time\, burlesque was firmly outside my comfort zone but I was a Showgirl now so I better crack on with it. The term “fake it till you make it” has never been more true for me! I learnt the basic moves and slowly but surely started to tap into the confidence I needed to pull it off! \nPerforming a burlesque set in front of a live audience was the most empowering experience I’ve ever had and it has genuinely changed my life for the better\, carrying that new confidence with me into the world. \nI therefore feel really strongly about teaching a burlesque course. The moves will be simple\, accessible and achievable and as the weeks go by we’ll nurture the attitude you need to give these moves conviction. This is your chance to dance as if no one is watching. \nWear clothes and shoes that you are confident dancing in. I would recommend warming up in trainers and then if you’re comfortable\, switch to heels or go barefoot for the routine. Don’t forget your water bottle\, being this sassy is thirsty work!” \nBURLESQUE DANCE is a routine build course so book the course now and don’t miss out!
URL:https://dazzleworkshops.co.uk/event/burlesque-dance-course/2025-06-30/
ATTACH;FMTTYPE=image/png:https://dazzleworkshops.co.uk/wp-content/uploads/2025/05/burlesque-flyer-1920-x-1080-px.png
END:VEVENT
BEGIN:VEVENT
DTSTART;TZID=Europe/London:20250623T193000
DTEND;TZID=Europe/London:20250623T203000
DTSTAMP:20260422T033510
CREATED:20250514T125000Z
LAST-MODIFIED:20250616T120319Z
UID:33575-1750707000-1750710600@dazzleworkshops.co.uk
SUMMARY:Burlesque Dance Course
DESCRIPTION:So excited that Ros is running this empowering and fun course in June! \n“When I became a Dazzle Showgirl in 2024\, I unlocked a part of my soul that I previously didn’t know existed. That secretive\, saucy\, confident woman who could dance as if no one was watching. \nAt the time\, burlesque was firmly outside my comfort zone but I was a Showgirl now so I better crack on with it. The term “fake it till you make it” has never been more true for me! I learnt the basic moves and slowly but surely started to tap into the confidence I needed to pull it off! \nPerforming a burlesque set in front of a live audience was the most empowering experience I’ve ever had and it has genuinely changed my life for the better\, carrying that new confidence with me into the world. \nI therefore feel really strongly about teaching a burlesque course. The moves will be simple\, accessible and achievable and as the weeks go by we’ll nurture the attitude you need to give these moves conviction. This is your chance to dance as if no one is watching. \nWear clothes and shoes that you are confident dancing in. I would recommend warming up in trainers and then if you’re comfortable\, switch to heels or go barefoot for the routine. Don’t forget your water bottle\, being this sassy is thirsty work!” \nBURLESQUE DANCE is a routine build course so book the course now and don’t miss out!
URL:https://dazzleworkshops.co.uk/event/burlesque-dance-course/2025-06-23/
ATTACH;FMTTYPE=image/png:https://dazzleworkshops.co.uk/wp-content/uploads/2025/05/burlesque-flyer-1920-x-1080-px.png
END:VEVENT
BEGIN:VEVENT
DTSTART;TZID=Europe/London:20250616T193000
DTEND;TZID=Europe/London:20250616T203000
DTSTAMP:20260422T033510
CREATED:20250514T125000Z
LAST-MODIFIED:20250616T120313Z
UID:33574-1750102200-1750105800@dazzleworkshops.co.uk
SUMMARY:Burlesque Dance Course
DESCRIPTION:So excited that Ros is running this empowering and fun course in June! \n“When I became a Dazzle Showgirl in 2024\, I unlocked a part of my soul that I previously didn’t know existed. That secretive\, saucy\, confident woman who could dance as if no one was watching. \nAt the time\, burlesque was firmly outside my comfort zone but I was a Showgirl now so I better crack on with it. The term “fake it till you make it” has never been more true for me! I learnt the basic moves and slowly but surely started to tap into the confidence I needed to pull it off! \nPerforming a burlesque set in front of a live audience was the most empowering experience I’ve ever had and it has genuinely changed my life for the better\, carrying that new confidence with me into the world. \nI therefore feel really strongly about teaching a burlesque course. The moves will be simple\, accessible and achievable and as the weeks go by we’ll nurture the attitude you need to give these moves conviction. This is your chance to dance as if no one is watching. \nWear clothes and shoes that you are confident dancing in. I would recommend warming up in trainers and then if you’re comfortable\, switch to heels or go barefoot for the routine. Don’t forget your water bottle\, being this sassy is thirsty work!” \nBURLESQUE DANCE is a routine build course so book the course now and don’t miss out!
URL:https://dazzleworkshops.co.uk/event/burlesque-dance-course/2025-06-16/
ATTACH;FMTTYPE=image/png:https://dazzleworkshops.co.uk/wp-content/uploads/2025/05/burlesque-flyer-1920-x-1080-px.png
END:VEVENT
BEGIN:VEVENT
DTSTART;TZID=Europe/London:20250609T193000
DTEND;TZID=Europe/London:20250609T203000
DTSTAMP:20260422T033510
CREATED:20250514T125000Z
LAST-MODIFIED:20250616T120304Z
UID:33570-1749497400-1749501000@dazzleworkshops.co.uk
SUMMARY:Burlesque Dance Course
DESCRIPTION:So excited that Ros is running this empowering and fun course in June! \n“When I became a Dazzle Showgirl in 2024\, I unlocked a part of my soul that I previously didn’t know existed. That secretive\, saucy\, confident woman who could dance as if no one was watching. \nAt the time\, burlesque was firmly outside my comfort zone but I was a Showgirl now so I better crack on with it. The term “fake it till you make it” has never been more true for me! I learnt the basic moves and slowly but surely started to tap into the confidence I needed to pull it off! \nPerforming a burlesque set in front of a live audience was the most empowering experience I’ve ever had and it has genuinely changed my life for the better\, carrying that new confidence with me into the world. \nI therefore feel really strongly about teaching a burlesque course. The moves will be simple\, accessible and achievable and as the weeks go by we’ll nurture the attitude you need to give these moves conviction. This is your chance to dance as if no one is watching. \nWear clothes and shoes that you are confident dancing in. I would recommend warming up in trainers and then if you’re comfortable\, switch to heels or go barefoot for the routine. Don’t forget your water bottle\, being this sassy is thirsty work!” \nBURLESQUE DANCE is a routine build course so book the course now and don’t miss out!
URL:https://dazzleworkshops.co.uk/event/burlesque-dance-course/2025-06-09/
ATTACH;FMTTYPE=image/png:https://dazzleworkshops.co.uk/wp-content/uploads/2025/05/burlesque-flyer-1920-x-1080-px.png
END:VEVENT
END:VCALENDAR