BEGIN:VCALENDAR
VERSION:2.0
PRODID:-//Dazzle Workshops - ECPv6.15.11//NONSGML v1.0//EN
CALSCALE:GREGORIAN
METHOD:PUBLISH
X-WR-CALNAME:Dazzle Workshops
X-ORIGINAL-URL:https://dazzleworkshops.co.uk
X-WR-CALDESC:Events for Dazzle Workshops
REFRESH-INTERVAL;VALUE=DURATION:PT1H
X-Robots-Tag:noindex
X-PUBLISHED-TTL:PT1H
BEGIN:VTIMEZONE
TZID:Europe/London
BEGIN:DAYLIGHT
TZOFFSETFROM:+0000
TZOFFSETTO:+0100
TZNAME:BST
DTSTART:20230326T010000
END:DAYLIGHT
BEGIN:STANDARD
TZOFFSETFROM:+0100
TZOFFSETTO:+0000
TZNAME:GMT
DTSTART:20231029T010000
END:STANDARD
BEGIN:DAYLIGHT
TZOFFSETFROM:+0000
TZOFFSETTO:+0100
TZNAME:BST
DTSTART:20240331T010000
END:DAYLIGHT
BEGIN:STANDARD
TZOFFSETFROM:+0100
TZOFFSETTO:+0000
TZNAME:GMT
DTSTART:20241027T010000
END:STANDARD
BEGIN:DAYLIGHT
TZOFFSETFROM:+0000
TZOFFSETTO:+0100
TZNAME:BST
DTSTART:20250330T010000
END:DAYLIGHT
BEGIN:STANDARD
TZOFFSETFROM:+0100
TZOFFSETTO:+0000
TZNAME:GMT
DTSTART:20251026T010000
END:STANDARD
END:VTIMEZONE
BEGIN:VEVENT
DTSTART;TZID=Europe/London:20240429T200000
DTEND;TZID=Europe/London:20240429T211500
DTSTAMP:20260420T071249
CREATED:20231222T150908Z
LAST-MODIFIED:20240329T120646Z
UID:29640-1714420800-1714425300@dazzleworkshops.co.uk
SUMMARY:Dance & Stretch Monday 8pm
DESCRIPTION:  \n\nWhat makes a Dazzle Dance & Stretch course unique?\nEvery week a new fun routine\, a new dance style\, new feel good music. \nEach routine is choreographed with three aims – I want the choreography to feel achievable and for you to leave feeling a sense of achievement – I want you to also feel challenged enough to focus on the dancing and forget about the world outside – I want to put a smile on your face. Some classes focus more on the fitness\, some are bouncy\, some are more technical and others but each class is independent so you can rock up\, enjoy\, take what you need from it and forget about it. There is no pressure to remember any moves for the next class\, just enjoy then say goodbye and get on with your week. \nA short warm up starts the class before gradually\, section by section\, we develop and learn an achievable\, fun\, stylish but challenging enough routine. With lots of repeated sequences\, you will be able to add in more style and individuality as we run through the finished masterpiece a few times before a simple cool down. The time flies by and you can put in as much or as little as you want. If you are there for fitness\, to hang out with friends\, to dance\, to forget about the cupboards that need sorting\, it doesn’t matter. \n\nThen we roll out our mats for a well deserved guided 15-20 minute stretch and relax.  Building strength and flexibility\, relaxing\, reaping the benefits of the dance workout and helping you to leave the class a little less wired up.
URL:https://dazzleworkshops.co.uk/event/dance-stretch-monday-7-30pm-2/2024-04-29/
LOCATION:box village hall
ATTACH;FMTTYPE=image/jpeg:https://dazzleworkshops.co.uk/wp-content/uploads/2023/05/IMG-0139-scaled.jpg
END:VEVENT
BEGIN:VEVENT
DTSTART;TZID=Europe/London:20240422T200000
DTEND;TZID=Europe/London:20240422T211500
DTSTAMP:20260420T071249
CREATED:20231222T150908Z
LAST-MODIFIED:20240329T120639Z
UID:29639-1713816000-1713820500@dazzleworkshops.co.uk
SUMMARY:Dance & Stretch Monday 8pm
DESCRIPTION:  \n\nWhat makes a Dazzle Dance & Stretch course unique?\nEvery week a new fun routine\, a new dance style\, new feel good music. \nEach routine is choreographed with three aims – I want the choreography to feel achievable and for you to leave feeling a sense of achievement – I want you to also feel challenged enough to focus on the dancing and forget about the world outside – I want to put a smile on your face. Some classes focus more on the fitness\, some are bouncy\, some are more technical and others but each class is independent so you can rock up\, enjoy\, take what you need from it and forget about it. There is no pressure to remember any moves for the next class\, just enjoy then say goodbye and get on with your week. \nA short warm up starts the class before gradually\, section by section\, we develop and learn an achievable\, fun\, stylish but challenging enough routine. With lots of repeated sequences\, you will be able to add in more style and individuality as we run through the finished masterpiece a few times before a simple cool down. The time flies by and you can put in as much or as little as you want. If you are there for fitness\, to hang out with friends\, to dance\, to forget about the cupboards that need sorting\, it doesn’t matter. \n\nThen we roll out our mats for a well deserved guided 15-20 minute stretch and relax.  Building strength and flexibility\, relaxing\, reaping the benefits of the dance workout and helping you to leave the class a little less wired up.
URL:https://dazzleworkshops.co.uk/event/dance-stretch-monday-7-30pm-2/2024-04-22/
LOCATION:box village hall
ATTACH;FMTTYPE=image/jpeg:https://dazzleworkshops.co.uk/wp-content/uploads/2023/05/IMG-0139-scaled.jpg
END:VEVENT
BEGIN:VEVENT
DTSTART;TZID=Europe/London:20240408T200000
DTEND;TZID=Europe/London:20240408T211500
DTSTAMP:20260420T071249
CREATED:20231222T150908Z
LAST-MODIFIED:20240329T120618Z
UID:28640-1712606400-1712610900@dazzleworkshops.co.uk
SUMMARY:Dance & Stretch Monday 8pm
DESCRIPTION:  \n\nWhat makes a Dazzle Dance & Stretch course unique?\nEvery week a new fun routine\, a new dance style\, new feel good music. \nEach routine is choreographed with three aims – I want the choreography to feel achievable and for you to leave feeling a sense of achievement – I want you to also feel challenged enough to focus on the dancing and forget about the world outside – I want to put a smile on your face. Some classes focus more on the fitness\, some are bouncy\, some are more technical and others but each class is independent so you can rock up\, enjoy\, take what you need from it and forget about it. There is no pressure to remember any moves for the next class\, just enjoy then say goodbye and get on with your week. \nA short warm up starts the class before gradually\, section by section\, we develop and learn an achievable\, fun\, stylish but challenging enough routine. With lots of repeated sequences\, you will be able to add in more style and individuality as we run through the finished masterpiece a few times before a simple cool down. The time flies by and you can put in as much or as little as you want. If you are there for fitness\, to hang out with friends\, to dance\, to forget about the cupboards that need sorting\, it doesn’t matter. \n\nThen we roll out our mats for a well deserved guided 15-20 minute stretch and relax.  Building strength and flexibility\, relaxing\, reaping the benefits of the dance workout and helping you to leave the class a little less wired up.
URL:https://dazzleworkshops.co.uk/event/dance-stretch-monday-7-30pm-2/2024-04-08/
LOCATION:box village hall
ATTACH;FMTTYPE=image/jpeg:https://dazzleworkshops.co.uk/wp-content/uploads/2023/05/IMG-0139-scaled.jpg
END:VEVENT
END:VCALENDAR