BEGIN:VCALENDAR
VERSION:2.0
PRODID:-//Dazzle Workshops - ECPv6.15.11//NONSGML v1.0//EN
CALSCALE:GREGORIAN
METHOD:PUBLISH
X-ORIGINAL-URL:https://dazzleworkshops.co.uk
X-WR-CALDESC:Events for Dazzle Workshops
REFRESH-INTERVAL;VALUE=DURATION:PT1H
X-Robots-Tag:noindex
X-PUBLISHED-TTL:PT1H
BEGIN:VTIMEZONE
TZID:Europe/London
BEGIN:DAYLIGHT
TZOFFSETFROM:+0000
TZOFFSETTO:+0100
TZNAME:BST
DTSTART:20250330T010000
END:DAYLIGHT
BEGIN:STANDARD
TZOFFSETFROM:+0100
TZOFFSETTO:+0000
TZNAME:GMT
DTSTART:20251026T010000
END:STANDARD
BEGIN:DAYLIGHT
TZOFFSETFROM:+0000
TZOFFSETTO:+0100
TZNAME:BST
DTSTART:20260329T010000
END:DAYLIGHT
BEGIN:STANDARD
TZOFFSETFROM:+0100
TZOFFSETTO:+0000
TZNAME:GMT
DTSTART:20261025T010000
END:STANDARD
BEGIN:DAYLIGHT
TZOFFSETFROM:+0000
TZOFFSETTO:+0100
TZNAME:BST
DTSTART:20270328T010000
END:DAYLIGHT
BEGIN:STANDARD
TZOFFSETFROM:+0100
TZOFFSETTO:+0000
TZNAME:GMT
DTSTART:20271031T010000
END:STANDARD
END:VTIMEZONE
BEGIN:VEVENT
DTSTART;TZID=Europe/London:20260212T091500
DTEND;TZID=Europe/London:20260212T103000
DTSTAMP:20260424T070622
CREATED:20251111T182152Z
LAST-MODIFIED:20260209T143114Z
UID:34882-1770887700-1770892200@dazzleworkshops.co.uk
SUMMARY:Dance & Stretch Thursday Jan/Feb 2026
DESCRIPTION:NEW Dance & Stretch courses starting in January 2026!\nDance classes designed to uplift\, keep you healthy and build your confidence with a feel good boogie\, closing stretch and relaxation.\nDazzle Ladies Dance … ticking every box!
URL:https://dazzleworkshops.co.uk/event/dance-stretch-thursday-jan-feb-2026/2026-02-12/
ATTACH;FMTTYPE=image/jpeg:https://dazzleworkshops.co.uk/wp-content/uploads/2025/11/jan-featured-image-1.jpg
END:VEVENT
BEGIN:VEVENT
DTSTART;TZID=Europe/London:20260205T091500
DTEND;TZID=Europe/London:20260205T103000
DTSTAMP:20260424T070622
CREATED:20251111T182152Z
LAST-MODIFIED:20260209T143113Z
UID:34881-1770282900-1770287400@dazzleworkshops.co.uk
SUMMARY:Dance & Stretch Thursday Jan/Feb 2026
DESCRIPTION:NEW Dance & Stretch courses starting in January 2026!\nDance classes designed to uplift\, keep you healthy and build your confidence with a feel good boogie\, closing stretch and relaxation.\nDazzle Ladies Dance … ticking every box!
URL:https://dazzleworkshops.co.uk/event/dance-stretch-thursday-jan-feb-2026/2026-02-05/
ATTACH;FMTTYPE=image/jpeg:https://dazzleworkshops.co.uk/wp-content/uploads/2025/11/jan-featured-image-1.jpg
END:VEVENT
BEGIN:VEVENT
DTSTART;TZID=Europe/London:20260129T091500
DTEND;TZID=Europe/London:20260129T103000
DTSTAMP:20260424T070622
CREATED:20251111T182152Z
LAST-MODIFIED:20260209T143112Z
UID:34880-1769678100-1769682600@dazzleworkshops.co.uk
SUMMARY:Dance & Stretch Thursday Jan/Feb 2026
DESCRIPTION:NEW Dance & Stretch courses starting in January 2026!\nDance classes designed to uplift\, keep you healthy and build your confidence with a feel good boogie\, closing stretch and relaxation.\nDazzle Ladies Dance … ticking every box!
URL:https://dazzleworkshops.co.uk/event/dance-stretch-thursday-jan-feb-2026/2026-01-29/
ATTACH;FMTTYPE=image/jpeg:https://dazzleworkshops.co.uk/wp-content/uploads/2025/11/jan-featured-image-1.jpg
END:VEVENT
BEGIN:VEVENT
DTSTART;TZID=Europe/London:20260122T091500
DTEND;TZID=Europe/London:20260122T103000
DTSTAMP:20260424T070622
CREATED:20251111T182152Z
LAST-MODIFIED:20260209T143110Z
UID:34879-1769073300-1769077800@dazzleworkshops.co.uk
SUMMARY:Dance & Stretch Thursday Jan/Feb 2026
DESCRIPTION:NEW Dance & Stretch courses starting in January 2026!\nDance classes designed to uplift\, keep you healthy and build your confidence with a feel good boogie\, closing stretch and relaxation.\nDazzle Ladies Dance … ticking every box!
URL:https://dazzleworkshops.co.uk/event/dance-stretch-thursday-jan-feb-2026/2026-01-22/
ATTACH;FMTTYPE=image/jpeg:https://dazzleworkshops.co.uk/wp-content/uploads/2025/11/jan-featured-image-1.jpg
END:VEVENT
BEGIN:VEVENT
DTSTART;TZID=Europe/London:20260115T091500
DTEND;TZID=Europe/London:20260115T103000
DTSTAMP:20260424T070622
CREATED:20251111T182152Z
LAST-MODIFIED:20260209T143109Z
UID:34878-1768468500-1768473000@dazzleworkshops.co.uk
SUMMARY:Dance & Stretch Thursday Jan/Feb 2026
DESCRIPTION:NEW Dance & Stretch courses starting in January 2026!\nDance classes designed to uplift\, keep you healthy and build your confidence with a feel good boogie\, closing stretch and relaxation.\nDazzle Ladies Dance … ticking every box!
URL:https://dazzleworkshops.co.uk/event/dance-stretch-thursday-jan-feb-2026/2026-01-15/
ATTACH;FMTTYPE=image/jpeg:https://dazzleworkshops.co.uk/wp-content/uploads/2025/11/jan-featured-image-1.jpg
END:VEVENT
BEGIN:VEVENT
DTSTART;TZID=Europe/London:20260108T091500
DTEND;TZID=Europe/London:20260108T103000
DTSTAMP:20260424T070622
CREATED:20251111T182152Z
LAST-MODIFIED:20260209T143103Z
UID:34876-1767863700-1767868200@dazzleworkshops.co.uk
SUMMARY:Dance & Stretch Thursday Jan/Feb 2026
DESCRIPTION:NEW Dance & Stretch courses starting in January 2026!\nDance classes designed to uplift\, keep you healthy and build your confidence with a feel good boogie\, closing stretch and relaxation.\nDazzle Ladies Dance … ticking every box!
URL:https://dazzleworkshops.co.uk/event/dance-stretch-thursday-jan-feb-2026/2026-01-08/
ATTACH;FMTTYPE=image/jpeg:https://dazzleworkshops.co.uk/wp-content/uploads/2025/11/jan-featured-image-1.jpg
END:VEVENT
END:VCALENDAR