BEGIN:VCALENDAR
VERSION:2.0
PRODID:-//Dazzle Workshops - ECPv6.15.11//NONSGML v1.0//EN
CALSCALE:GREGORIAN
METHOD:PUBLISH
X-ORIGINAL-URL:https://dazzleworkshops.co.uk
X-WR-CALDESC:Events for Dazzle Workshops
REFRESH-INTERVAL;VALUE=DURATION:PT1H
X-Robots-Tag:noindex
X-PUBLISHED-TTL:PT1H
BEGIN:VTIMEZONE
TZID:Europe/London
BEGIN:DAYLIGHT
TZOFFSETFROM:+0000
TZOFFSETTO:+0100
TZNAME:BST
DTSTART:20230326T010000
END:DAYLIGHT
BEGIN:STANDARD
TZOFFSETFROM:+0100
TZOFFSETTO:+0000
TZNAME:GMT
DTSTART:20231029T010000
END:STANDARD
BEGIN:DAYLIGHT
TZOFFSETFROM:+0000
TZOFFSETTO:+0100
TZNAME:BST
DTSTART:20240331T010000
END:DAYLIGHT
BEGIN:STANDARD
TZOFFSETFROM:+0100
TZOFFSETTO:+0000
TZNAME:GMT
DTSTART:20241027T010000
END:STANDARD
BEGIN:DAYLIGHT
TZOFFSETFROM:+0000
TZOFFSETTO:+0100
TZNAME:BST
DTSTART:20250330T010000
END:DAYLIGHT
BEGIN:STANDARD
TZOFFSETFROM:+0100
TZOFFSETTO:+0000
TZNAME:GMT
DTSTART:20251026T010000
END:STANDARD
END:VTIMEZONE
BEGIN:VEVENT
DTSTART;TZID=Europe/London:20241202T133000
DTEND;TZID=Europe/London:20241202T143000
DTSTAMP:20260419T213433
CREATED:20241009T130546Z
LAST-MODIFIED:20241103T211222Z
UID:31576-1733146200-1733149800@dazzleworkshops.co.uk
SUMMARY:Gentle Dance & Stretch
DESCRIPTION:
URL:https://dazzleworkshops.co.uk/event/gentle-dance-stretch/2024-12-02/
ATTACH;FMTTYPE=image/png:https://dazzleworkshops.co.uk/wp-content/uploads/2024/10/1-1.png
END:VEVENT
BEGIN:VEVENT
DTSTART;TZID=Europe/London:20241125T133000
DTEND;TZID=Europe/London:20241125T143000
DTSTAMP:20260419T213433
CREATED:20241009T130546Z
LAST-MODIFIED:20241103T211214Z
UID:31575-1732541400-1732545000@dazzleworkshops.co.uk
SUMMARY:Gentle Dance & Stretch
DESCRIPTION:
URL:https://dazzleworkshops.co.uk/event/gentle-dance-stretch/2024-11-25/
ATTACH;FMTTYPE=image/png:https://dazzleworkshops.co.uk/wp-content/uploads/2024/10/1-1.png
END:VEVENT
BEGIN:VEVENT
DTSTART;TZID=Europe/London:20241118T133000
DTEND;TZID=Europe/London:20241118T143000
DTSTAMP:20260419T213433
CREATED:20241009T130546Z
LAST-MODIFIED:20241103T211205Z
UID:31574-1731936600-1731940200@dazzleworkshops.co.uk
SUMMARY:Gentle Dance & Stretch
DESCRIPTION:
URL:https://dazzleworkshops.co.uk/event/gentle-dance-stretch/2024-11-18/
ATTACH;FMTTYPE=image/png:https://dazzleworkshops.co.uk/wp-content/uploads/2024/10/1-1.png
END:VEVENT
BEGIN:VEVENT
DTSTART;TZID=Europe/London:20241111T133000
DTEND;TZID=Europe/London:20241111T143000
DTSTAMP:20260419T213433
CREATED:20241009T130546Z
LAST-MODIFIED:20241103T211149Z
UID:31566-1731331800-1731335400@dazzleworkshops.co.uk
SUMMARY:Gentle Dance & Stretch
DESCRIPTION:
URL:https://dazzleworkshops.co.uk/event/gentle-dance-stretch/2024-11-11/
ATTACH;FMTTYPE=image/png:https://dazzleworkshops.co.uk/wp-content/uploads/2024/10/1-1.png
END:VEVENT
END:VCALENDAR