BEGIN:VCALENDAR
VERSION:2.0
PRODID:-//Dazzle Workshops - ECPv6.15.11//NONSGML v1.0//EN
CALSCALE:GREGORIAN
METHOD:PUBLISH
X-WR-CALNAME:Dazzle Workshops
X-ORIGINAL-URL:https://dazzleworkshops.co.uk
X-WR-CALDESC:Events for Dazzle Workshops
REFRESH-INTERVAL;VALUE=DURATION:PT1H
X-Robots-Tag:noindex
X-PUBLISHED-TTL:PT1H
BEGIN:VTIMEZONE
TZID:Europe/London
BEGIN:DAYLIGHT
TZOFFSETFROM:+0000
TZOFFSETTO:+0100
TZNAME:BST
DTSTART:20160327T010000
END:DAYLIGHT
BEGIN:STANDARD
TZOFFSETFROM:+0100
TZOFFSETTO:+0000
TZNAME:GMT
DTSTART:20161030T010000
END:STANDARD
BEGIN:DAYLIGHT
TZOFFSETFROM:+0000
TZOFFSETTO:+0100
TZNAME:BST
DTSTART:20170326T010000
END:DAYLIGHT
BEGIN:STANDARD
TZOFFSETFROM:+0100
TZOFFSETTO:+0000
TZNAME:GMT
DTSTART:20171029T010000
END:STANDARD
BEGIN:DAYLIGHT
TZOFFSETFROM:+0000
TZOFFSETTO:+0100
TZNAME:BST
DTSTART:20180325T010000
END:DAYLIGHT
BEGIN:STANDARD
TZOFFSETFROM:+0100
TZOFFSETTO:+0000
TZNAME:GMT
DTSTART:20181028T010000
END:STANDARD
END:VTIMEZONE
BEGIN:VEVENT
DTSTART;TZID=Europe/London:20170503T201500
DTEND;TZID=Europe/London:20170503T211500
DTSTAMP:20260421T134319
CREATED:20170420T125041Z
LAST-MODIFIED:20170420T125228Z
UID:6356-1493842500-1493846100@dazzleworkshops.co.uk
SUMMARY:Ladies Dance/Fitness Class
DESCRIPTION:Dazzle is covering the Bellyfit Classes on the following dates:\nWednesday May 3rd\, 10th\, 17th\nLansdown Hall in Stroud\n8.15pm-9.15pm\n£7 per class\n£4 concessions
URL:https://dazzleworkshops.co.uk/event/ladies-dancefitness-class/2017-05-03/
LOCATION:Lansdown Hall\, Lansdown\, Stroud\, GL5 1BB
CATEGORIES:Ladies Dance
ATTACH;FMTTYPE=image/jpeg:https://dazzleworkshops.co.uk/wp-content/uploads/2016/01/ladies-dance-montage-1.jpg
END:VEVENT
END:VCALENDAR