BEGIN:VCALENDAR
VERSION:2.0
PRODID:-//Dazzle Workshops - ECPv6.15.11//NONSGML v1.0//EN
CALSCALE:GREGORIAN
METHOD:PUBLISH
X-ORIGINAL-URL:https://dazzleworkshops.co.uk
X-WR-CALDESC:Events for Dazzle Workshops
REFRESH-INTERVAL;VALUE=DURATION:PT1H
X-Robots-Tag:noindex
X-PUBLISHED-TTL:PT1H
BEGIN:VTIMEZONE
TZID:Europe/London
BEGIN:DAYLIGHT
TZOFFSETFROM:+0000
TZOFFSETTO:+0100
TZNAME:BST
DTSTART:20180325T010000
END:DAYLIGHT
BEGIN:STANDARD
TZOFFSETFROM:+0100
TZOFFSETTO:+0000
TZNAME:GMT
DTSTART:20181028T010000
END:STANDARD
BEGIN:DAYLIGHT
TZOFFSETFROM:+0000
TZOFFSETTO:+0100
TZNAME:BST
DTSTART:20190331T010000
END:DAYLIGHT
BEGIN:STANDARD
TZOFFSETFROM:+0100
TZOFFSETTO:+0000
TZNAME:GMT
DTSTART:20191027T010000
END:STANDARD
BEGIN:DAYLIGHT
TZOFFSETFROM:+0000
TZOFFSETTO:+0100
TZNAME:BST
DTSTART:20200329T010000
END:DAYLIGHT
BEGIN:STANDARD
TZOFFSETFROM:+0100
TZOFFSETTO:+0000
TZNAME:GMT
DTSTART:20201025T010000
END:STANDARD
END:VTIMEZONE
BEGIN:VEVENT
DTSTART;TZID=Europe/London:20190123T183000
DTEND;TZID=Europe/London:20190123T193000
DTSTAMP:20260420T201343
CREATED:20181211T132715Z
LAST-MODIFIED:20181211T132913Z
UID:13337-1548268200-1548271800@dazzleworkshops.co.uk
SUMMARY:Minchinhampton Youth Club - Craft Evening
DESCRIPTION:
URL:https://dazzleworkshops.co.uk/event/minchinhampton-youth-club-craft-evening/2019-01-23/
CATEGORIES:Craft,Creativity,Minchinhampton youth club
END:VEVENT
END:VCALENDAR