BEGIN:VCALENDAR
VERSION:2.0
PRODID:-//Dazzle Workshops - ECPv6.15.11//NONSGML v1.0//EN
CALSCALE:GREGORIAN
METHOD:PUBLISH
X-ORIGINAL-URL:https://dazzleworkshops.co.uk
X-WR-CALDESC:Events for Dazzle Workshops
REFRESH-INTERVAL;VALUE=DURATION:PT1H
X-Robots-Tag:noindex
X-PUBLISHED-TTL:PT1H
BEGIN:VTIMEZONE
TZID:Europe/London
BEGIN:DAYLIGHT
TZOFFSETFROM:+0000
TZOFFSETTO:+0100
TZNAME:BST
DTSTART:20150329T010000
END:DAYLIGHT
BEGIN:STANDARD
TZOFFSETFROM:+0100
TZOFFSETTO:+0000
TZNAME:GMT
DTSTART:20151025T010000
END:STANDARD
BEGIN:DAYLIGHT
TZOFFSETFROM:+0000
TZOFFSETTO:+0100
TZNAME:BST
DTSTART:20160327T010000
END:DAYLIGHT
BEGIN:STANDARD
TZOFFSETFROM:+0100
TZOFFSETTO:+0000
TZNAME:GMT
DTSTART:20161030T010000
END:STANDARD
BEGIN:DAYLIGHT
TZOFFSETFROM:+0000
TZOFFSETTO:+0100
TZNAME:BST
DTSTART:20170326T010000
END:DAYLIGHT
BEGIN:STANDARD
TZOFFSETFROM:+0100
TZOFFSETTO:+0000
TZNAME:GMT
DTSTART:20171029T010000
END:STANDARD
END:VTIMEZONE
BEGIN:VEVENT
DTSTART;TZID=Europe/London:20161107T153000
DTEND;TZID=Europe/London:20161107T170000
DTSTAMP:20260420T082941
CREATED:20160906T213652Z
LAST-MODIFIED:20161101T230903Z
UID:4278-1478532600-1478538000@dazzleworkshops.co.uk
SUMMARY:After School Dance  (5 Sessions)
DESCRIPTION:AFTER SCHOOL DANCE COURSE – 5 Sessions \nKeep the kids active and happy during the colder months with this fun\, creative\, no pressure dance course tailored for both boys and girls. Movement games and a different dance style each week including Street Dance\, Jive\, Charleston\, Musical Theatre and Tango. \nVenue-The Market House in Minchinhampton \n3.30pm-5pm \n£25 per child (5 Sessions)
URL:https://dazzleworkshops.co.uk/event/school-dance-course/2016-11-07/
LOCATION:Minchinhampton Market House\, high street\, minchinhampton\, United Kingdom
CATEGORIES:After School Club,dance
ATTACH;FMTTYPE=image/jpeg:https://dazzleworkshops.co.uk/wp-content/uploads/2016/01/basketball.jpg
GEO:51.7050268;-2.1865241
X-APPLE-STRUCTURED-LOCATION;VALUE=URI;X-ADDRESS=Minchinhampton Market House high street minchinhampton United Kingdom;X-APPLE-RADIUS=500;X-TITLE=high street:geo:-2.1865241,51.7050268
END:VEVENT
END:VCALENDAR