BEGIN:VCALENDAR
VERSION:2.0
PRODID:-//Dazzle Workshops - ECPv6.15.11//NONSGML v1.0//EN
CALSCALE:GREGORIAN
METHOD:PUBLISH
X-ORIGINAL-URL:https://dazzleworkshops.co.uk
X-WR-CALDESC:Events for Dazzle Workshops
REFRESH-INTERVAL;VALUE=DURATION:PT1H
X-Robots-Tag:noindex
X-PUBLISHED-TTL:PT1H
BEGIN:VTIMEZONE
TZID:Europe/London
BEGIN:DAYLIGHT
TZOFFSETFROM:+0000
TZOFFSETTO:+0100
TZNAME:BST
DTSTART:20170326T010000
END:DAYLIGHT
BEGIN:STANDARD
TZOFFSETFROM:+0100
TZOFFSETTO:+0000
TZNAME:GMT
DTSTART:20171029T010000
END:STANDARD
BEGIN:DAYLIGHT
TZOFFSETFROM:+0000
TZOFFSETTO:+0100
TZNAME:BST
DTSTART:20180325T010000
END:DAYLIGHT
BEGIN:STANDARD
TZOFFSETFROM:+0100
TZOFFSETTO:+0000
TZNAME:GMT
DTSTART:20181028T010000
END:STANDARD
BEGIN:DAYLIGHT
TZOFFSETFROM:+0000
TZOFFSETTO:+0100
TZNAME:BST
DTSTART:20190331T010000
END:DAYLIGHT
BEGIN:STANDARD
TZOFFSETFROM:+0100
TZOFFSETTO:+0000
TZNAME:GMT
DTSTART:20191027T010000
END:STANDARD
END:VTIMEZONE
BEGIN:VEVENT
DTSTART;TZID=Europe/London:20180913T074500
DTEND;TZID=Europe/London:20180913T084500
DTSTAMP:20260421T152730
CREATED:20180824T195230Z
LAST-MODIFIED:20181010T103415Z
UID:11899-1536824700-1536828300@dazzleworkshops.co.uk
SUMMARY:Wake Up Club-Thursday-FULL
DESCRIPTION:Wake Up Club-September\n      \n   \n\n\n\nActive\, energizing\, fun before school club\n7.45am-8.45am\n£4 per morning or £3.50 per morning when booking a half term or termly course.\nIncludes a simple\, healthy breakfast on a self serve basis. \nDazzle has been running the successful early morning ‘Wake Up Club’ at Minchinhampton Primary School since October 2015.\nA Dazzle ‘Wake Up Club’ is not a typical school breakfast club.\n\nThe children are welcome from 7.45am and a simple healthy breakfast is ready with activities set up in the hall and a colouring and craft table. Once the majority of the group has arrived we can start the principal activity which varies from street dance\, plate spinning\, football skills\, french skipping\, tennis\, gymnastics\, craft activities\, board games\, yoga\, basketball or indoor cricket. The club sometimes closes with the ‘Check Me Out’ section when the children are invited to demonstrate skills they have been practising and enjoy before joining their classes.\nA Dazzle ‘Wake Up Club’ aims to develop new skills\, fitness\, co-ordination\, confidence and be ready for a day at school.\nDazzle currently runs Wake Up Club sessions on Mondays – Thursdays at Minchinhampton Primary Academy.
URL:https://dazzleworkshops.co.uk/event/wake-club-thursday-3/2018-09-13/
CATEGORIES:Wake Up Club
ATTACH;FMTTYPE=image/jpeg:https://dazzleworkshops.co.uk/wp-content/uploads/2018/08/Wake-Up-Club-September.jpg
END:VEVENT
END:VCALENDAR