BEGIN:VCALENDAR
VERSION:2.0
PRODID:-//Dazzle Workshops - ECPv6.15.11//NONSGML v1.0//EN
CALSCALE:GREGORIAN
METHOD:PUBLISH
X-ORIGINAL-URL:https://dazzleworkshops.co.uk
X-WR-CALDESC:Events for Dazzle Workshops
REFRESH-INTERVAL;VALUE=DURATION:PT1H
X-Robots-Tag:noindex
X-PUBLISHED-TTL:PT1H
BEGIN:VTIMEZONE
TZID:Europe/London
BEGIN:DAYLIGHT
TZOFFSETFROM:+0000
TZOFFSETTO:+0100
TZNAME:BST
DTSTART:20200329T010000
END:DAYLIGHT
BEGIN:STANDARD
TZOFFSETFROM:+0100
TZOFFSETTO:+0000
TZNAME:GMT
DTSTART:20201025T010000
END:STANDARD
BEGIN:DAYLIGHT
TZOFFSETFROM:+0000
TZOFFSETTO:+0100
TZNAME:BST
DTSTART:20210328T010000
END:DAYLIGHT
BEGIN:STANDARD
TZOFFSETFROM:+0100
TZOFFSETTO:+0000
TZNAME:GMT
DTSTART:20211031T010000
END:STANDARD
BEGIN:DAYLIGHT
TZOFFSETFROM:+0000
TZOFFSETTO:+0100
TZNAME:BST
DTSTART:20220327T010000
END:DAYLIGHT
BEGIN:STANDARD
TZOFFSETFROM:+0100
TZOFFSETTO:+0000
TZNAME:GMT
DTSTART:20221030T010000
END:STANDARD
END:VTIMEZONE
BEGIN:VEVENT
DTSTART;TZID=Europe/London:20210914T090000
DTEND;TZID=Europe/London:20210914T100000
DTSTAMP:20260422T093805
CREATED:20210720T170514Z
LAST-MODIFIED:20210902T104235Z
UID:22507-1631610000-1631613600@dazzleworkshops.co.uk
SUMMARY:Wake Up & Boogie - Tuesdays / 6 weeks
DESCRIPTION:NEW routine\, NEW music\, NEW dance style\, EVERY week!\nThis NEW style ladies class is designed to make you feel good and ready for your day. The class starts with a sweaty 25 minutes … an upbeat dance routine\, with lots of repeated moves\, to fun chart toppers. Get the adrenalin flowing\, laugh and escape. We then reap the benefits of the workout with a relaxing 15 minute yoga stretch on our mats creating a positive mindset for the day ahead. Whatever that may involve.\nPlease wear shoes and clothes to easily groove in and bring your own yoga mat and water bottle!\nVenue-Minchinhampton Scout Hut\n9am-10am – The class will start on time!\nThe 6 week course costs £40 or £7 per class drop in (if space) and contactless payment is available.\nDazzle requires a weeks cancellation notice. A refund cannot be offered if within a week of the course starting. But\, we will obviously try our best to find a replacement booking.\nONLY 10 places available to ensure a safe class for all.
URL:https://dazzleworkshops.co.uk/event/wake-up-boogie-tuesdays-6-weeks/2021-09-14/
LOCATION:scout hut\, Dr Browns Road\, Minchinhampton\, GL69BT
CATEGORIES:dance,Fitness,Ladies Dance,Ladies Relaxation
ATTACH;FMTTYPE=:https://dazzleworkshops.co.uk/wp-content/uploads/2021/11/new-general-dance-Flyer.png
END:VEVENT
END:VCALENDAR