BEGIN:VCALENDAR
VERSION:2.0
PRODID:-//Dazzle Workshops - ECPv6.15.11//NONSGML v1.0//EN
CALSCALE:GREGORIAN
METHOD:PUBLISH
X-WR-CALNAME:Dazzle Workshops
X-ORIGINAL-URL:https://dazzleworkshops.co.uk
X-WR-CALDESC:Events for Dazzle Workshops
REFRESH-INTERVAL;VALUE=DURATION:PT1H
X-Robots-Tag:noindex
X-PUBLISHED-TTL:PT1H
BEGIN:VTIMEZONE
TZID:Europe/London
BEGIN:DAYLIGHT
TZOFFSETFROM:+0000
TZOFFSETTO:+0100
TZNAME:BST
DTSTART:20170326T010000
END:DAYLIGHT
BEGIN:STANDARD
TZOFFSETFROM:+0100
TZOFFSETTO:+0000
TZNAME:GMT
DTSTART:20171029T010000
END:STANDARD
BEGIN:DAYLIGHT
TZOFFSETFROM:+0000
TZOFFSETTO:+0100
TZNAME:BST
DTSTART:20180325T010000
END:DAYLIGHT
BEGIN:STANDARD
TZOFFSETFROM:+0100
TZOFFSETTO:+0000
TZNAME:GMT
DTSTART:20181028T010000
END:STANDARD
BEGIN:DAYLIGHT
TZOFFSETFROM:+0000
TZOFFSETTO:+0100
TZNAME:BST
DTSTART:20190331T010000
END:DAYLIGHT
BEGIN:STANDARD
TZOFFSETFROM:+0100
TZOFFSETTO:+0000
TZNAME:GMT
DTSTART:20191027T010000
END:STANDARD
END:VTIMEZONE
BEGIN:VEVENT
DTSTART;TZID=Europe/London:20180803T084500
DTEND;TZID=Europe/London:20180803T153000
DTSTAMP:20260426T033554
CREATED:20180430T213659Z
LAST-MODIFIED:20180518T133044Z
UID:11028-1533285900-1533310200@dazzleworkshops.co.uk
SUMMARY:Summer Holiday Club-Friday
DESCRIPTION:Summer Holiday Club\n      \n   \n\n\n\nDAZZLE is excited to announce the dates for the Summer Holiday Club for 2018 at Minchinhampton Youth Centre for children in school years Reception to Year 6 as Monday July 30th – Friday August 3rd.\nThe club aims is to offer flexibile and affordable childcare for parents and fun\, active\, creative days for the children with all the unique fun they expect from Dazzle! With a variety of classic Dazzle games available for the children during the day\, ranging from team sports\, drama skills\, themed craft activities\, dance routines\, partner yoga\, silly songs and competitive games\, we hope there is always something to enjoy while you’re at work\, shopping\, at the spa or at the cinema! I don’t judge. There is a team of enthusiastic team leaders ready to entertain and keep the kids active and happy who love working at the Holiday Clubs. \nThis summer includes Lacrosse\, Science experiments\, Croquet\, Hobby Horse Racing (its a real\, competitive sport!)\, Shadow Puppetry\, Treasure Hunt and shaded\, outdoor lunch and play areas\, sole use of Astro Turf for team and sports activities.\nAll activities are optional and there is the choice to book mornings\, afternoons\, all day and further discounts when booking all week.\n\nParents can book a morning\, afternoon or all day  and there are 25 places available on each session.\nExample Holiday Club Day\n8.45am-9.30am / Morning drop off\nColouring table\, craft activities\, library and supervised free games available in the hall\n9.30am-10.15am / Wake Up Club games and silly fun\n10.15am / Snack break\n10.30am-11.15am / Structured indoor or outdoor sports  (weather dependant) – Astro Turf/Hall\n11.30am- Dance Routines (optional)\n12pm-1pm/ Morning collection\, afternoon drop off\, lunch and supervised free play (Lunch not provided)\nColouring table\, library and supervised games available in the hall\n1pm-2pm /  Themed craft activities\n2pm / Snack break\n2.15pm-3pm / Closing drama game or yoga inspired activity\n3.30pm / Collection \nMorning session – 8.45am-12pm £12\nAfternoon session – 12pm-3.30pm £12\nAll day – 8.45am-3.30pm  £20\nAll week – £90 \n*Please contact Dazzle if your child may need extra support during the Holiday Club before booking a place. Dazzle has a responsibility to every child at the club and it is essential the correct information is provided when booking a place. Failure to provide the correct information could result in the early collection of your child.\n*Dazzle Holiday Clubs are a ‘techno free’ space. Ipods\, DS\, Phones and gaming are not allowed during the time at the club. In the case of bad weather restricting certain activities\, the group may enjoy an episode of ‘Blue Planet’\, ‘Horrible Histories’ or ‘Wonders of the Universe’ on the big screen.\n*Your child might like to bring along their own book for reading during chill out time or if they prefer to not join in with a particular activity.\n*Dazzle does not accept childcare vouchers unfortunately.
URL:https://dazzleworkshops.co.uk/event/summer-holiday-club-friday/
CATEGORIES:Holiday Club,Holiday Workshops
END:VEVENT
END:VCALENDAR