BEGIN:VCALENDAR
VERSION:2.0
PRODID:-//Dazzle Workshops - ECPv6.15.11//NONSGML v1.0//EN
CALSCALE:GREGORIAN
METHOD:PUBLISH
X-ORIGINAL-URL:https://dazzleworkshops.co.uk
X-WR-CALDESC:Events for Dazzle Workshops
REFRESH-INTERVAL;VALUE=DURATION:PT1H
X-Robots-Tag:noindex
X-PUBLISHED-TTL:PT1H
BEGIN:VTIMEZONE
TZID:Europe/London
BEGIN:DAYLIGHT
TZOFFSETFROM:+0000
TZOFFSETTO:+0100
TZNAME:BST
DTSTART:20170326T010000
END:DAYLIGHT
BEGIN:STANDARD
TZOFFSETFROM:+0100
TZOFFSETTO:+0000
TZNAME:GMT
DTSTART:20171029T010000
END:STANDARD
BEGIN:DAYLIGHT
TZOFFSETFROM:+0000
TZOFFSETTO:+0100
TZNAME:BST
DTSTART:20180325T010000
END:DAYLIGHT
BEGIN:STANDARD
TZOFFSETFROM:+0100
TZOFFSETTO:+0000
TZNAME:GMT
DTSTART:20181028T010000
END:STANDARD
BEGIN:DAYLIGHT
TZOFFSETFROM:+0000
TZOFFSETTO:+0100
TZNAME:BST
DTSTART:20190331T010000
END:DAYLIGHT
BEGIN:STANDARD
TZOFFSETFROM:+0100
TZOFFSETTO:+0000
TZNAME:GMT
DTSTART:20191027T010000
END:STANDARD
BEGIN:DAYLIGHT
TZOFFSETFROM:+0000
TZOFFSETTO:+0100
TZNAME:BST
DTSTART:20200329T010000
END:DAYLIGHT
BEGIN:STANDARD
TZOFFSETFROM:+0100
TZOFFSETTO:+0000
TZNAME:GMT
DTSTART:20201025T010000
END:STANDARD
END:VTIMEZONE
BEGIN:VEVENT
DTSTART;TZID=Europe/London:20190307T090000
DTEND;TZID=Europe/London:20190307T123000
DTSTAMP:20260422T032028
CREATED:20190131T143119Z
LAST-MODIFIED:20190131T143152Z
UID:13875-1551949200-1551961800@dazzleworkshops.co.uk
SUMMARY:World Book Day KS1 Workshops-St Josephs
DESCRIPTION:
URL:https://dazzleworkshops.co.uk/event/world-book-day-ks1-workshops-st-josephs/
CATEGORIES:School Event
END:VEVENT
BEGIN:VEVENT
DTSTART;TZID=Europe/London:20190304T133000
DTEND;TZID=Europe/London:20190304T150000
DTSTAMP:20260422T032028
CREATED:20190207T140149Z
LAST-MODIFIED:20190228T111836Z
UID:13983-1551706200-1551711600@dazzleworkshops.co.uk
SUMMARY:Girl Talk School Courses
DESCRIPTION:
URL:https://dazzleworkshops.co.uk/event/girl-power-school-course/2019-03-04/
CATEGORIES:School Event
ATTACH;FMTTYPE=image/jpeg:https://dazzleworkshops.co.uk/wp-content/uploads/2018/10/IMG_7430.jpg
END:VEVENT
BEGIN:VEVENT
DTSTART;TZID=Europe/London:20181030T135000
DTEND;TZID=Europe/London:20181030T145000
DTSTAMP:20260422T032028
CREATED:20181029T190649Z
LAST-MODIFIED:20181106T131216Z
UID:12974-1540907400-1540911000@dazzleworkshops.co.uk
SUMMARY:Avening Charleston Session
DESCRIPTION:
URL:https://dazzleworkshops.co.uk/event/avening-charleston-session/
CATEGORIES:dance,School Event
END:VEVENT
BEGIN:VEVENT
DTSTART;TZID=Europe/London:20180720T133000
DTEND;TZID=Europe/London:20180720T150000
DTSTAMP:20260422T032028
CREATED:20180607T122728Z
LAST-MODIFIED:20180607T122728Z
UID:11446-1532093400-1532098800@dazzleworkshops.co.uk
SUMMARY:Dance Day-Avening School-Enrichment Week
DESCRIPTION:
URL:https://dazzleworkshops.co.uk/event/dance-day-avening-school-enrichment-week-2/
CATEGORIES:dance,School Event
END:VEVENT
BEGIN:VEVENT
DTSTART;TZID=Europe/London:20180719T090000
DTEND;TZID=Europe/London:20180719T153000
DTSTAMP:20260422T032028
CREATED:20180607T122553Z
LAST-MODIFIED:20180607T122553Z
UID:11444-1531990800-1532014200@dazzleworkshops.co.uk
SUMMARY:Dance Day-Avening School-Enrichment Week
DESCRIPTION:
URL:https://dazzleworkshops.co.uk/event/dance-day-avening-school-enrichment-week/
CATEGORIES:dance,School Event
END:VEVENT
END:VCALENDAR