BEGIN:VCALENDAR
VERSION:2.0
PRODID:-//Dazzle Workshops - ECPv6.15.11//NONSGML v1.0//EN
CALSCALE:GREGORIAN
METHOD:PUBLISH
X-ORIGINAL-URL:https://dazzleworkshops.co.uk
X-WR-CALDESC:Events for Dazzle Workshops
REFRESH-INTERVAL;VALUE=DURATION:PT1H
X-Robots-Tag:noindex
X-PUBLISHED-TTL:PT1H
BEGIN:VTIMEZONE
TZID:Europe/London
BEGIN:DAYLIGHT
TZOFFSETFROM:+0000
TZOFFSETTO:+0100
TZNAME:BST
DTSTART:20180325T010000
END:DAYLIGHT
BEGIN:STANDARD
TZOFFSETFROM:+0100
TZOFFSETTO:+0000
TZNAME:GMT
DTSTART:20181028T010000
END:STANDARD
BEGIN:DAYLIGHT
TZOFFSETFROM:+0000
TZOFFSETTO:+0100
TZNAME:BST
DTSTART:20190331T010000
END:DAYLIGHT
BEGIN:STANDARD
TZOFFSETFROM:+0100
TZOFFSETTO:+0000
TZNAME:GMT
DTSTART:20191027T010000
END:STANDARD
BEGIN:DAYLIGHT
TZOFFSETFROM:+0000
TZOFFSETTO:+0100
TZNAME:BST
DTSTART:20200329T010000
END:DAYLIGHT
BEGIN:STANDARD
TZOFFSETFROM:+0100
TZOFFSETTO:+0000
TZNAME:GMT
DTSTART:20201025T010000
END:STANDARD
END:VTIMEZONE
BEGIN:VEVENT
DTSTART;TZID=Europe/London:20191106T140000
DTEND;TZID=Europe/London:20191106T160000
DTSTAMP:20260422T141139
CREATED:20191024T110837Z
LAST-MODIFIED:20191024T110837Z
UID:16299-1573048800-1573056000@dazzleworkshops.co.uk
SUMMARY:Flexi Hub
DESCRIPTION:
URL:https://dazzleworkshops.co.uk/event/flexi-hub-3/2019-11-06/
END:VEVENT
BEGIN:VEVENT
DTSTART;TZID=Europe/London:20191111T154000
DTEND;TZID=Europe/London:20191111T175000
DTSTAMP:20260422T141139
CREATED:20191010T114718Z
LAST-MODIFIED:20191010T144400Z
UID:16060-1573486800-1573494600@dazzleworkshops.co.uk
SUMMARY:Monday dance clubs
DESCRIPTION:Street Dance 3.40pm-4.40pm\, rock up anytime from 3.30pm for ages 5-11\nWarm up\, creative fitness games will start each session before exploring iconic Street and Breakdance moves and gradually developing a funky routine to a classic Hip-Hop track. No pressure of gradings or performing but the freedom to express your love of dance and move how you want!\nStrictly Come Dancing 4.50pm-5.50pm for ages 5-11\nWarm up\, creative fitness games will start each session before exploring a selection of Strictly themed dance styles and routines including Tango\, Cha Cha Cha\, Charleston\, Paso Doble\, Salsa and Jive\n£25 per child per course or 10% discount when booking any 2 courses (Code DANCE10)
URL:https://dazzleworkshops.co.uk/event/monday-dance-clubs-2/2019-11-11/
LOCATION:Youth Centre\, Tobacconnist Road\, Minchinhampton\, United Kingdom
CATEGORIES:After School Club,Creativity,dance,Fitness,Minchinhampton youth club,Teamwork
ATTACH;FMTTYPE=image/jpeg:https://dazzleworkshops.co.uk/wp-content/uploads/2019/08/A4743F19-7512-4920-B0C1-B87BC80BD137-1.jpg
GEO:51.7037976;-2.1827463
X-APPLE-STRUCTURED-LOCATION;VALUE=URI;X-ADDRESS=Youth Centre Tobacconnist Road Minchinhampton United Kingdom;X-APPLE-RADIUS=500;X-TITLE=Tobacconnist Road:geo:-2.1827463,51.7037976
END:VEVENT
BEGIN:VEVENT
DTSTART;TZID=Europe/London:20191111T194500
DTEND;TZID=Europe/London:20191111T214500
DTSTAMP:20260422T141139
CREATED:20191108T102837Z
LAST-MODIFIED:20191108T103420Z
UID:16411-1573501500-1573508700@dazzleworkshops.co.uk
SUMMARY:Ladies Dance & Relaxation Classes
DESCRIPTION:
URL:https://dazzleworkshops.co.uk/event/ladies-dance-relaxation-classes-2/2019-11-11/
CATEGORIES:dance,Ladies Dance,Ladies Relaxation,Minchinhampton youth club
ATTACH;FMTTYPE=image/jpeg:https://dazzleworkshops.co.uk/wp-content/uploads/2019/11/1.jpg
END:VEVENT
BEGIN:VEVENT
DTSTART;TZID=Europe/London:20191112T151500
DTEND;TZID=Europe/London:20191112T163000
DTSTAMP:20260422T141139
CREATED:20191010T120713Z
LAST-MODIFIED:20191010T120808Z
UID:16069-1573571700-1573576200@dazzleworkshops.co.uk
SUMMARY:St Joseph’s Street Dance Club
DESCRIPTION:Street Dance Club –  3.15pm – 4.30pm (Years 1-3)\nYay! Dazzle is back at St Joseph’s for a new after school Street Dance Club. Each session will start with a creative fitness game before exploring iconic Hip-Hop and Breakdance moves\, gradually developing a funky routine to a feel good upbeat track and closing with a simple stretch and cool down.  No pressure of gradings or performing but the freedom to express your love of dance and move how you want. Perfect for little ones who love dancing\, playing\, want to learn new moves or want to have fun with their friends at the end of their day at school!
URL:https://dazzleworkshops.co.uk/event/st-josephs-street-dance-club/2019-11-12/
CATEGORIES:After School Club,Creativity,dance
ATTACH;FMTTYPE=image/jpeg:https://dazzleworkshops.co.uk/wp-content/uploads/2019/08/A4743F19-7512-4920-B0C1-B87BC80BD137-1.jpg
END:VEVENT
BEGIN:VEVENT
DTSTART;TZID=Europe/London:20191115T193000
DTEND;TZID=Europe/London:20191115T213000
DTSTAMP:20260422T141139
CREATED:20191112T120512Z
LAST-MODIFIED:20191112T120512Z
UID:16439-1573846200-1573853400@dazzleworkshops.co.uk
SUMMARY:Ladies Night-Longfield Hospice
DESCRIPTION:
URL:https://dazzleworkshops.co.uk/event/ladies-night-longfield-hospice/
CATEGORIES:Ladies Dance,Ladies Relaxation,local event
END:VEVENT
BEGIN:VEVENT
DTSTART;TZID=Europe/London:20191115T193000
DTEND;TZID=Europe/London:20191115T223000
DTSTAMP:20260422T141139
CREATED:20191108T104952Z
LAST-MODIFIED:20191108T104952Z
UID:16431-1573846200-1573857000@dazzleworkshops.co.uk
SUMMARY:Ladies Night - Longfield Care
DESCRIPTION:
URL:https://dazzleworkshops.co.uk/event/ladies-night-longfield-care/
END:VEVENT
BEGIN:VEVENT
DTSTART;VALUE=DATE:20191116
DTEND;VALUE=DATE:20191117
DTSTAMP:20260422T141139
CREATED:20191001T123421Z
LAST-MODIFIED:20191001T123421Z
UID:15982-1573862400-1573948799@dazzleworkshops.co.uk
SUMMARY:PJMASKS birthday party
DESCRIPTION:
URL:https://dazzleworkshops.co.uk/event/pjmasks-birthday-party/
END:VEVENT
BEGIN:VEVENT
DTSTART;VALUE=DATE:20191117
DTEND;VALUE=DATE:20191118
DTSTAMP:20260422T141139
CREATED:20191001T123549Z
LAST-MODIFIED:20191001T123549Z
UID:15984-1573948800-1574035199@dazzleworkshops.co.uk
SUMMARY:Woodland Creatures birthday party
DESCRIPTION:
URL:https://dazzleworkshops.co.uk/event/woodland-creatures-birthday-party/
END:VEVENT
BEGIN:VEVENT
DTSTART;VALUE=DATE:20191130
DTEND;VALUE=DATE:20191201
DTSTAMP:20260422T141139
CREATED:20191001T123829Z
LAST-MODIFIED:20191001T123829Z
UID:15989-1575072000-1575158399@dazzleworkshops.co.uk
SUMMARY:Mermaid birthday party
DESCRIPTION:
URL:https://dazzleworkshops.co.uk/event/mermaid-birthday-party/
END:VEVENT
END:VCALENDAR